BEGIN:VCALENDAR
VERSION:2.0
PRODID:-//hacksw/handcal//NONSGML v1.0//EN
BEGIN:VEVENT
SUMMARY:SENIORS A (J20)
UID:d115cb2d-02c6-40ec-ad2b-998decaf811b
DTSTART:20260426T130000Z
DTEND:20260426T220000Z
LOCATION:Localisation 1 RUE DE LA BRISE  44260 MALVILLE
CATEGORIES:Sportif
STATUS:
URL;VALUE=URI:https://www.jabesne.com/evenements/2026/04/26/seniors-a-j20-2261496
END:VEVENT
END:VCALENDAR
