BEGIN:VCALENDAR
VERSION:2.0
PRODID:-//hacksw/handcal//NONSGML v1.0//EN
BEGIN:VEVENT
SUMMARY:SENIORS A (J18)
UID:19c1e122-0bad-4c08-bbdc-1374cca5ff99
DTSTART:20260412T130000Z
DTEND:20260412T220000Z
LOCATION:JA BESNE FOOTBALL JEANNE D'ARC DE BESNE FOOTBALL 44160 BESNE
CATEGORIES:Sportif
STATUS:
URL;VALUE=URI:https://www.jabesne.com/evenements/2026/04/12/seniors-a-j18-2261493
END:VEVENT
END:VCALENDAR
